BEGIN:VCALENDAR
VERSION:2.0
PRODID:-//Higher Playing Field - ECPv6.7.0//NONSGML v1.0//EN
CALSCALE:GREGORIAN
METHOD:PUBLISH
X-WR-CALNAME:Higher Playing Field
X-ORIGINAL-URL:https://higherplayingfield.com
X-WR-CALDESC:Events for Higher Playing Field
REFRESH-INTERVAL;VALUE=DURATION:PT1H
X-Robots-Tag:noindex
X-PUBLISHED-TTL:PT1H
BEGIN:VTIMEZONE
TZID:Europe/London
BEGIN:DAYLIGHT
TZOFFSETFROM:+0000
TZOFFSETTO:+0100
TZNAME:BST
DTSTART:20240331T010000
END:DAYLIGHT
BEGIN:STANDARD
TZOFFSETFROM:+0100
TZOFFSETTO:+0000
TZNAME:GMT
DTSTART:20241027T010000
END:STANDARD
END:VTIMEZONE
BEGIN:VEVENT
DTSTART;TZID=Europe/London:20240814T193000
DTEND;TZID=Europe/London:20240814T213000
DTSTAMP:20260421T120200
CREATED:20240731T162608Z
LAST-MODIFIED:20240801T220500Z
UID:716-1723663800-1723671000@higherplayingfield.com
SUMMARY:Introduction to Navigating School Disciplinary Issues and SEN Support
DESCRIPTION:Welcome to our webinar\, “Navigating School Disciplinary Issues and SEN Support”. This session is designed specifically for parents of Black children who are facing disciplinary challenges or navigating the complexities of Special Educational Needs (SEN) within the school system.\n\n\n\n\n\n\n\n\n\n\nAbout the Webinar: \nNavigating the education system can be an intimidating and emotional journey for families\, especially when disciplinary issues arise or when your child requires additional support due to SEN. This webinar aims to provide parents with the knowledge\, resources\, and strategies needed to effectively advocate for their children and ensure they receive the support and fair treatment they deserve. \nWhat You’ll Learn: \n\nUnderstanding SEN and Available Support: Learn about Special Educational Needs\, the types of support available\, and the legal obligations schools have to meet your child’s needs.\nSchools’ Obligations in SEN Cases: Discover the protocols schools must follow to support children with SEN and how you can ensure these obligations are met.\nHandling Disciplinary Matters: Gain practical advice on how to address disciplinary issues constructively\, understand school disciplinary policies\, and engage in effective communication with educators.\nLegislation Relating to Exclusions: Get an overview of the laws surrounding exclusions\, your children’s rights\, and the steps you can take if your child is facing exclusion.\nPractical Tips for Parents: Learn actionable strategies to support your child\, build a network of support\, document interactions with the school\, and stay involved in your child’s education.\n\nWho Should Attend: \nThis webinar is ideal for parents of Black children experiencing disciplinary issues or requiring SEN support in school. Whether you’re seeking to understand your child’s rights\, looking for practical advice on navigating the school system\, or wanting to connect with a supportive community\, this webinar is for you. \nJoin Us: \nJoin us for this insightful and empowering session\, where we provide an overview of the support available\, walk you through handling disciplinary matters\, and explain legislation related to exclusions. Together\, we aim to help parents navigate these challenges and advocate effectively for their children. \nSign Up: \nRegister today to secure your spot and receive a free Study Resource Pack for your child. Let’s work together to create a higher playing field for all our children. \nWe look forward to welcoming you to our community and supporting you on this journey. \n\n 
URL:https://higherplayingfield.com/event/navigating-school-disciplinary-issues-and-sen-support
CATEGORIES:Webinars
ATTACH;FMTTYPE=image/jpeg:https://higherplayingfield.com/wp-content/uploads/2023/04/Black-Boy-studying.jpg
ORGANIZER;CN="Higher Playing Field":MAILTO:info@higherplayingfield.com
END:VEVENT
END:VCALENDAR